BEGIN:VCALENDAR
VERSION:2.0
PRODID:-//Boston Classical Guitar Society - ECPv6.15.17//NONSGML v1.0//EN
CALSCALE:GREGORIAN
METHOD:PUBLISH
X-ORIGINAL-URL:https://bostonguitar.org
X-WR-CALDESC:Events for Boston Classical Guitar Society
REFRESH-INTERVAL;VALUE=DURATION:PT1H
X-Robots-Tag:noindex
X-PUBLISHED-TTL:PT1H
BEGIN:VTIMEZONE
TZID:America/New_York
BEGIN:DAYLIGHT
TZOFFSETFROM:-0500
TZOFFSETTO:-0400
TZNAME:EDT
DTSTART:20180311T070000
END:DAYLIGHT
BEGIN:STANDARD
TZOFFSETFROM:-0400
TZOFFSETTO:-0500
TZNAME:EST
DTSTART:20181104T060000
END:STANDARD
BEGIN:DAYLIGHT
TZOFFSETFROM:-0500
TZOFFSETTO:-0400
TZNAME:EDT
DTSTART:20190310T070000
END:DAYLIGHT
BEGIN:STANDARD
TZOFFSETFROM:-0400
TZOFFSETTO:-0500
TZNAME:EST
DTSTART:20191103T060000
END:STANDARD
BEGIN:DAYLIGHT
TZOFFSETFROM:-0500
TZOFFSETTO:-0400
TZNAME:EDT
DTSTART:20200308T070000
END:DAYLIGHT
BEGIN:STANDARD
TZOFFSETFROM:-0400
TZOFFSETTO:-0500
TZNAME:EST
DTSTART:20201101T060000
END:STANDARD
BEGIN:DAYLIGHT
TZOFFSETFROM:-0500
TZOFFSETTO:-0400
TZNAME:EDT
DTSTART:20210314T070000
END:DAYLIGHT
BEGIN:STANDARD
TZOFFSETFROM:-0400
TZOFFSETTO:-0500
TZNAME:EST
DTSTART:20211107T060000
END:STANDARD
END:VTIMEZONE
BEGIN:VEVENT
DTSTART;TZID=America/New_York:20201025T150000
DTEND;TZID=America/New_York:20201025T160000
DTSTAMP:20260420T151750
CREATED:20201017T143019Z
LAST-MODIFIED:20201024T181437Z
UID:3417-1603638000-1603641600@bostonguitar.org
SUMMARY:CANCELLED: Dave McClellan
DESCRIPTION:CANCELLED: Dave McLellan is not feeling well and we regretfully have to cancel this performance. \n\nThe Hingham Public Library and the BCGS are pleased to begin this season’s concert series in a virtual way with guitarist Dave McClellan! The concert will be performed LIVE on YouTube\, but we also encourage you to join us on Zoom\, before and after the concert\, for an introduction and Q&A with the guitarist. \nFind out more about this concert and to register for Zoom on the Hingham Library site.
URL:https://bostonguitar.org/event/dave-mcclellan/
CATEGORIES:Hingham Sunday Sounds
END:VEVENT
BEGIN:VEVENT
DTSTART;TZID=America/New_York:20200628T150000
DTEND;TZID=America/New_York:20200628T160000
DTSTAMP:20260420T151750
CREATED:20190829T212207Z
LAST-MODIFIED:20190829T212207Z
UID:2937-1593356400-1593360000@bostonguitar.org
SUMMARY:Hot Club de Boston - Gypsy Jazz & Swing Trio
DESCRIPTION:
URL:https://bostonguitar.org/event/hot-club-de-boston-gypsy-jazz-swing-trio/
LOCATION:Hingham Public Library\, 66 Leavitt Street\, Hingham\, MA\, 02043\, United States
CATEGORIES:Hingham Sunday Sounds
END:VEVENT
BEGIN:VEVENT
DTSTART;TZID=America/New_York:20200531T150000
DTEND;TZID=America/New_York:20200531T160000
DTSTAMP:20260420T151750
CREATED:20190829T212054Z
LAST-MODIFIED:20190830T122031Z
UID:2935-1590937200-1590940800@bostonguitar.org
SUMMARY:Thatcher Harrison - Solo Guitar
DESCRIPTION:
URL:https://bostonguitar.org/event/thatcher-harrison-solo-guitar/
LOCATION:Hingham Public Library\, 66 Leavitt Street\, Hingham\, MA\, 02043\, United States
CATEGORIES:Hingham Sunday Sounds
END:VEVENT
BEGIN:VEVENT
DTSTART;TZID=America/New_York:20200426T150000
DTEND;TZID=America/New_York:20200426T160000
DTSTAMP:20260420T151750
CREATED:20190829T211809Z
LAST-MODIFIED:20190829T211809Z
UID:2933-1587913200-1587916800@bostonguitar.org
SUMMARY:Providence Mandolin Orchestra
DESCRIPTION:
URL:https://bostonguitar.org/event/providence-mandolin-orchestra/
LOCATION:Hingham Public Library\, 66 Leavitt Street\, Hingham\, MA\, 02043\, United States
CATEGORIES:Hingham Sunday Sounds
END:VEVENT
BEGIN:VEVENT
DTSTART;TZID=America/New_York:20200322T150000
DTEND;TZID=America/New_York:20200322T160000
DTSTAMP:20260420T151750
CREATED:20190829T211705Z
LAST-MODIFIED:20190829T211705Z
UID:2931-1584889200-1584892800@bostonguitar.org
SUMMARY:Jim Skinger Duo - Guitar & Flute
DESCRIPTION:
URL:https://bostonguitar.org/event/jim-skinger-duo-guitar-flute/
LOCATION:Hingham Public Library\, 66 Leavitt Street\, Hingham\, MA\, 02043\, United States
CATEGORIES:Hingham Sunday Sounds
END:VEVENT
BEGIN:VEVENT
DTSTART;TZID=America/New_York:20200216T150000
DTEND;TZID=America/New_York:20200216T160000
DTSTAMP:20260420T151750
CREATED:20190829T211556Z
LAST-MODIFIED:20190829T211618Z
UID:2929-1581865200-1581868800@bostonguitar.org
SUMMARY:Olson DeCari Duo - Voice & Guitar
DESCRIPTION:
URL:https://bostonguitar.org/event/olson-decari-duo-voice-guitar/
LOCATION:Hingham Public Library\, 66 Leavitt Street\, Hingham\, MA\, 02043\, United States
CATEGORIES:Hingham Sunday Sounds
END:VEVENT
BEGIN:VEVENT
DTSTART;TZID=America/New_York:20200119T150000
DTEND;TZID=America/New_York:20200119T160000
DTSTAMP:20260420T151750
CREATED:20190829T211505Z
LAST-MODIFIED:20190829T211505Z
UID:2927-1579446000-1579449600@bostonguitar.org
SUMMARY:Eclectica - Quartet
DESCRIPTION:
URL:https://bostonguitar.org/event/eclectica-quartet/
LOCATION:Hingham Public Library\, 66 Leavitt Street\, Hingham\, MA\, 02043\, United States
CATEGORIES:Hingham Sunday Sounds
END:VEVENT
BEGIN:VEVENT
DTSTART;TZID=America/New_York:20191208T150000
DTEND;TZID=America/New_York:20191208T160000
DTSTAMP:20260420T151750
CREATED:20190829T211416Z
LAST-MODIFIED:20190829T211416Z
UID:2925-1575817200-1575820800@bostonguitar.org
SUMMARY:John Muratore - Christmas Music for the Guitar
DESCRIPTION:
URL:https://bostonguitar.org/event/john-muratore-xmas-music/
LOCATION:Hingham Public Library\, 66 Leavitt Street\, Hingham\, MA\, 02043\, United States
CATEGORIES:Hingham Sunday Sounds
END:VEVENT
BEGIN:VEVENT
DTSTART;TZID=America/New_York:20191124T150000
DTEND;TZID=America/New_York:20191124T160000
DTSTAMP:20260420T151750
CREATED:20190829T211226Z
LAST-MODIFIED:20190829T211226Z
UID:2923-1574607600-1574611200@bostonguitar.org
SUMMARY:Dan Acsadi & Meghan Jacoby Duo - Guitar & Flute
DESCRIPTION:
URL:https://bostonguitar.org/event/dan-acsadi-meghan-jacoby-duo-guitar-flute/
LOCATION:Hingham Public Library\, 66 Leavitt Street\, Hingham\, MA\, 02043\, United States
CATEGORIES:Hingham Sunday Sounds
END:VEVENT
BEGIN:VEVENT
DTSTART;TZID=America/New_York:20191020T150000
DTEND;TZID=America/New_York:20191020T160000
DTSTAMP:20260420T151750
CREATED:20190829T211117Z
LAST-MODIFIED:20190829T211117Z
UID:2921-1571583600-1571587200@bostonguitar.org
SUMMARY:Céili Connors\,  Solo Guitar
DESCRIPTION:
URL:https://bostonguitar.org/event/ceili-connors-solo-guitar/
LOCATION:Hingham Public Library\, 66 Leavitt Street\, Hingham\, MA\, 02043\, United States
CATEGORIES:Hingham Sunday Sounds
END:VEVENT
BEGIN:VEVENT
DTSTART;TZID=America/New_York:20190929T150000
DTEND;TZID=America/New_York:20190929T160000
DTSTAMP:20260420T151750
CREATED:20190829T210933Z
LAST-MODIFIED:20190829T210958Z
UID:2918-1569769200-1569772800@bostonguitar.org
SUMMARY:Steve Rapson\, Solo Guitar
DESCRIPTION:
URL:https://bostonguitar.org/event/hingham-steve-rapson/
LOCATION:Hingham Public Library\, 66 Leavitt Street\, Hingham\, MA\, 02043\, United States
CATEGORIES:Hingham Sunday Sounds
END:VEVENT
END:VCALENDAR